BEGIN:VCALENDAR
VERSION:2.0
PRODID:-//Orillia District Snowmobile Club (ODSC) - ECPv6.15.20//NONSGML v1.0//EN
CALSCALE:GREGORIAN
METHOD:PUBLISH
X-ORIGINAL-URL:https://sledorillia.com
X-WR-CALDESC:Events for Orillia District Snowmobile Club (ODSC)
REFRESH-INTERVAL;VALUE=DURATION:PT1H
X-Robots-Tag:noindex
X-PUBLISHED-TTL:PT1H
BEGIN:VTIMEZONE
TZID:America/Toronto
BEGIN:DAYLIGHT
TZOFFSETFROM:-0500
TZOFFSETTO:-0400
TZNAME:EDT
DTSTART:20250309T070000
END:DAYLIGHT
BEGIN:STANDARD
TZOFFSETFROM:-0400
TZOFFSETTO:-0500
TZNAME:EST
DTSTART:20251102T060000
END:STANDARD
BEGIN:DAYLIGHT
TZOFFSETFROM:-0500
TZOFFSETTO:-0400
TZNAME:EDT
DTSTART:20260308T070000
END:DAYLIGHT
BEGIN:STANDARD
TZOFFSETFROM:-0400
TZOFFSETTO:-0500
TZNAME:EST
DTSTART:20261101T060000
END:STANDARD
BEGIN:DAYLIGHT
TZOFFSETFROM:-0500
TZOFFSETTO:-0400
TZNAME:EDT
DTSTART:20270314T070000
END:DAYLIGHT
BEGIN:STANDARD
TZOFFSETFROM:-0400
TZOFFSETTO:-0500
TZNAME:EST
DTSTART:20271107T060000
END:STANDARD
END:VTIMEZONE
BEGIN:VEVENT
DTSTART;TZID=America/Toronto:20260507T190000
DTEND;TZID=America/Toronto:20260507T213000
DTSTAMP:20260421T141423
CREATED:20250910T011014Z
LAST-MODIFIED:20250910T011014Z
UID:1091-1778180400-1778189400@sledorillia.com
SUMMARY:ODSC Monthly Meeting - Rotary Place Orillia
DESCRIPTION:
URL:https://sledorillia.com/index.php/event/odsc-monthly-meeting-rotary-place-orillia-8/
LOCATION:Orillia Rotary Place\, 100 University Avenue\, Orillia\, Ontario\, L3V 6H1\, Canada
ORGANIZER;CN="Orillia District Snowmobile Club":MAILTO:info@sledorillia.com
END:VEVENT
END:VCALENDAR